BEGIN:VCALENDAR
VERSION:2.0
PRODID:-//Tukios.com/
BEGIN:VEVENT
UID:0b0bf197-aab6-4e80-82c7-a93efaaee668@www.wilsonvillefuneral.com
DTSTAMP:20260421T142224Z
DTSTART:20260421T191500Z
DTEND:20260421T201500Z
SUMMARY:Funeral Service
DESCRIPTION:
URL:https://www.wilsonvillefuneral.com/obituaries/krishna-raj
LOCATION: 29222 SW Town Center Loop E  Wilsonville OR 97070
GEO:45.3087924;-122.7597942
END:VEVENT
END:VCALENDAR