BEGIN:VCALENDAR
VERSION:2.0
PRODID:-//Tukios.com/
BEGIN:VEVENT
UID:831d89a6-321c-45d0-97f2-5e23eff76ba6@www.wilsonvillefuneral.com
DTSTAMP:20260421T142659Z
DTSTART:20260421T183000Z
DTEND:20260421T191500Z
SUMMARY:Viewing
DESCRIPTION:
URL:https://www.wilsonvillefuneral.com/obituaries/krishna-raj
LOCATION: 29222 SW Town Center Loop E  Wilsonville OR 97070
GEO:45.3087924;-122.7597942
END:VEVENT
END:VCALENDAR